BEGIN:VCALENDAR
VERSION:2.0
PRODID:-//Totnes Cinema - ECPv6.15.20//NONSGML v1.0//EN
CALSCALE:GREGORIAN
METHOD:PUBLISH
X-WR-CALNAME:Totnes Cinema
X-ORIGINAL-URL:https://totnescinema.co.uk/wp02
X-WR-CALDESC:Events for Totnes Cinema
REFRESH-INTERVAL;VALUE=DURATION:PT1H
X-Robots-Tag:noindex
X-PUBLISHED-TTL:PT1H
BEGIN:VTIMEZONE
TZID:Europe/London
BEGIN:DAYLIGHT
TZOFFSETFROM:+0000
TZOFFSETTO:+0100
TZNAME:BST
DTSTART:20250330T010000
END:DAYLIGHT
BEGIN:STANDARD
TZOFFSETFROM:+0100
TZOFFSETTO:+0000
TZNAME:GMT
DTSTART:20251026T010000
END:STANDARD
BEGIN:DAYLIGHT
TZOFFSETFROM:+0000
TZOFFSETTO:+0100
TZNAME:BST
DTSTART:20260329T010000
END:DAYLIGHT
BEGIN:STANDARD
TZOFFSETFROM:+0100
TZOFFSETTO:+0000
TZNAME:GMT
DTSTART:20261025T010000
END:STANDARD
BEGIN:DAYLIGHT
TZOFFSETFROM:+0000
TZOFFSETTO:+0100
TZNAME:BST
DTSTART:20270328T010000
END:DAYLIGHT
BEGIN:STANDARD
TZOFFSETFROM:+0100
TZOFFSETTO:+0000
TZNAME:GMT
DTSTART:20271031T010000
END:STANDARD
END:VTIMEZONE
BEGIN:VEVENT
DTSTART;TZID=Europe/London:20260426T200000
DTEND;TZID=Europe/London:20260426T200000
DTSTAMP:20260423T081616
CREATED:20260414T125217Z
LAST-MODIFIED:20260414T125314Z
UID:10002165-1777233600-1777233600@totnescinema.co.uk
SUMMARY:FIGHT CLUB (15) 2h 19m *NEW 4K RESTORATION*
DESCRIPTION:Dir: David Fincher \nCast: Edward Norton\, Brad Pitt\, Helena Bonham Carter \nGenre: Drama \nBack in cinemas with a brand new 4k restoration….A ticking-time-bomb insomniac and a slippery soap salesman channel primal male aggression into a shocking new form of therapy. Their concept catches on\, with underground “fight clubs” forming in every town\, until a sensuous eccentric gets in the way and ignites an out-of control spiral toward oblivion. \nDirected by David Fincher and adapted from Chuck Palahniuk’s gritty novel\, Fight Club stands as a landmark of modern cinema. Featuring iconic performances from Brad Pitt\, Edward Norton\, and Helena Bonham Carter\, the film redefined late-1990s filmmaking with its visceral style\, razor-sharp social commentary\, and subversive exploration of identity\, consumerism\, and modern masculinity. \nBar opens from 7pm serving our fabulous cocktails\, fine wines and craft beers\, as well as savoury and sweet snacks. \nFilm starts promptly at 8pm with last orders 10 minutes before the film \nWATCH THE TRAILER HERE
URL:https://totnescinema.co.uk/wp02/event/fight-club-15-2h-19m-4k-restoration/
LOCATION:Totnes Cinema\, 27a High Street\, Totnes\, TQ9 5NP\, United Kingdom
ATTACH;FMTTYPE=image/jpeg:https://totnescinema.co.uk/wp02/wp-content/uploads/2026/04/264400-movies-fight-club-brad-pitt-edward-norton-tyler-durden-t-o.jpg
END:VEVENT
BEGIN:VEVENT
DTSTART;TZID=Europe/London:20260427T200000
DTEND;TZID=Europe/London:20260427T200000
DTSTAMP:20260423T081616
CREATED:20260303T144548Z
LAST-MODIFIED:20260408T155204Z
UID:10002100-1777320000-1777320000@totnescinema.co.uk
SUMMARY:OUR LAND (12A) 1h 31m: + Q&A WITH DIRECTOR ORBAN WALLACE PLUS GUY SHRUBSOLE\, LEWIS WINKS & LISA SCHNEIDAU *SOLD OUT*
DESCRIPTION:Dir: Orban Wallace \nGenre: Documentary \n\n\n\nThrough organised ‘mass trespass’ events\, the Right to Roam movement sets out to increase public access to nature\, but finds itself in conflict with England’s landowners. \nOur Land seamlessly juxtaposes the two sides of the debate around our access to nature\, giving voice to the different perspectives: those fighting for greater access to the countryside and the landowners who are seen as the stewards of the land. Blending history with an eye on the future\, Our Land charts the conflict\, exploring the complex issues of access\, custodianship and conservation. Articulately presenting arguments from both sides\, the film challenges age-old beliefs around property that have shaped our relationship with the land for over a thousand years. And as the battle for nature continues the film asks the vital question\, who truly has the right to roam? \nWe are delighted to welcome director Orban Wallace as well as Guy Shrubsole & Lewis Winks from Right to Roam for a discussion & Q&A following the film. \nBar opens from 7pm serving our fabulous cocktails\, fine wines and craft beers\, as well as savoury and sweet snacks. \nFilm starts promptly at 8pm with last orders 10 minutes before the film \nWATCH THE TRAILER HERE
URL:https://totnescinema.co.uk/wp02/event/our-land-12a-1h-31m-qa-with-guy-shrubsole-lewis-winks-of-right-to-roam/
LOCATION:Totnes Cinema\, 27a High Street\, Totnes\, TQ9 5NP\, United Kingdom
ATTACH;FMTTYPE=image/jpeg:https://totnescinema.co.uk/wp02/wp-content/uploads/2026/03/our-land.jpg
END:VEVENT
BEGIN:VEVENT
DTSTART;TZID=Europe/London:20260428T200000
DTEND;TZID=Europe/London:20260428T200000
DTSTAMP:20260423T081616
CREATED:20260326T160232Z
LAST-MODIFIED:20260326T160232Z
UID:10002152-1777406400-1777406400@totnescinema.co.uk
SUMMARY:THE LOVE THAT REMAINS (15) 1h 49m
DESCRIPTION:Dir: Hlynur Pálmason \nCast: Panda\, Saga GarðarsdóttirÍda\, Mekkín Hlynsdóttir \nGenre: Drama \nA couple in the throes of separation find unexpected joys in family\, art\, routine and maybe something deeper\, in this playful and surprising drama. Godland director Hlynur Pálmason’s inventive fourth feature is a witty yet tender portrait of a year in the life of a family whose parents are navigating their separation. Punctuated with humour (including scenes of outrageous mansplaining and serious self-sabotage)\, quirky fantasy and a scene-stealing family dog\, the film elegantly portrays the bittersweet realities of negotiating faded love’s new normal. \nBar opens from 7pm serving our fabulous cocktails\, fine wines and craft beers\, as well as savoury and sweet snacks. \nFilm starts promptly at 8pm with last orders 10 minutes before the film \nWATCH THE TRAILER HERE 
URL:https://totnescinema.co.uk/wp02/event/the-love-that-remains-15-1h-49m/
LOCATION:Totnes Cinema\, 27a High Street\, Totnes\, TQ9 5NP\, United Kingdom
ATTACH;FMTTYPE=image/jpeg:https://totnescinema.co.uk/wp02/wp-content/uploads/2026/03/The-Love-That-Remains-movie-review.jpg
END:VEVENT
BEGIN:VEVENT
DTSTART;TZID=Europe/London:20260429T140000
DTEND;TZID=Europe/London:20260429T140000
DTSTAMP:20260423T081616
CREATED:20260326T151857Z
LAST-MODIFIED:20260326T151857Z
UID:10002149-1777471200-1777471200@totnescinema.co.uk
SUMMARY:MIDWINTER BREAK (12A) 1h 30m MATINEE 2PM
DESCRIPTION:Dir: Polly Findlay \nCast: Ciarán Hinds\, Lesley Manville \nGenre: Drama \nLongtime retired couple Stella and Gerry realize that their relationship has reached a crossroads while on holiday in Amsterdam. After so much time and so many memories\, long-held promises and deeply concealed wounds threaten to come to light and force them to confront their future. Based on the acclaimed novel by Bernard McLaverty\, Midwinter Break touchingly colours in how it might be possible for two people to know each other too well and also not well enough. A stirring meditation on faith\, commitment\, and the enduring power of love. \nCafe opens from 10am  serving delicious  home made cakes\, Crankhouse Coffee and Specialty Teas. Bar opens from 12pm serving cocktails\, fine wines\, craft beers and bar snacks. Last orders 10 minutes before the film starts. \nFilm starts promptly at 2pm. \nWATCH THE TRAILER HERE
URL:https://totnescinema.co.uk/wp02/event/midwinter-break-12a-1h-30m-matinee-2pm/
LOCATION:Totnes Cinema\, 27a High Street\, Totnes\, TQ9 5NP\, United Kingdom
ATTACH;FMTTYPE=image/jpeg:https://totnescinema.co.uk/wp02/wp-content/uploads/2026/03/midwinter-break-credit-protagonist-pictures.jpg
END:VEVENT
BEGIN:VEVENT
DTSTART;TZID=Europe/London:20260430T200000
DTEND;TZID=Europe/London:20260430T200000
DTSTAMP:20260423T081616
CREATED:20260415T103634Z
LAST-MODIFIED:20260415T103634Z
UID:10002166-1777579200-1777579200@totnescinema.co.uk
SUMMARY:FIGHT CLUB (15) 2h 19m *NEW 4K RESTORATION*
DESCRIPTION:Dir: David Fincher \nCast: Edward Norton\, Brad Pitt\, Helena Bonham Carter \nGenre: Drama \nBack in cinemas with a brand new 4k restoration….A ticking-time-bomb insomniac and a slippery soap salesman channel primal male aggression into a shocking new form of therapy. Their concept catches on\, with underground “fight clubs” forming in every town\, until a sensuous eccentric gets in the way and ignites an out-of control spiral toward oblivion. \nDirected by David Fincher and adapted from Chuck Palahniuk’s gritty novel\, Fight Club stands as a landmark of modern cinema. Featuring iconic performances from Brad Pitt\, Edward Norton\, and Helena Bonham Carter\, the film redefined late-1990s filmmaking with its visceral style\, razor-sharp social commentary\, and subversive exploration of identity\, consumerism\, and modern masculinity. \nBar opens from 7pm serving our fabulous cocktails\, fine wines and craft beers\, as well as savoury and sweet snacks. \nFilm starts promptly at 8pm with last orders 10 minutes before the film \nWATCH THE TRAILER HERE
URL:https://totnescinema.co.uk/wp02/event/fight-club-15-2h-19m-new-4k-restoration/
LOCATION:Totnes Cinema\, 27a High Street\, Totnes\, TQ9 5NP\, United Kingdom
ATTACH;FMTTYPE=image/jpeg:https://totnescinema.co.uk/wp02/wp-content/uploads/2026/04/264400-movies-fight-club-brad-pitt-edward-norton-tyler-durden-t-o.jpg
END:VEVENT
BEGIN:VEVENT
DTSTART;TZID=Europe/London:20260518T200000
DTEND;TZID=Europe/London:20260518T200000
DTSTAMP:20260423T081616
CREATED:20260408T160734Z
LAST-MODIFIED:20260408T160734Z
UID:10002160-1779134400-1779134400@totnescinema.co.uk
SUMMARY:OUR LAND (12A) 1h 31m + Q&A WITH JESS DUFFY & LEWIS WINKS OF RIGHT TO ROAM
DESCRIPTION:Dir: Orban Wallace \nGenre: Documentary \n\n\n\nThrough organised ‘mass trespass’ events\, the Right to Roam movement sets out to increase public access to nature\, but finds itself in conflict with England’s landowners. \nOur Land seamlessly juxtaposes the two sides of the debate around our access to nature\, giving voice to the different perspectives: those fighting for greater access to the countryside and the landowners who are seen as the stewards of the land. Blending history with an eye on the future\, Our Land charts the conflict\, exploring the complex issues of access\, custodianship and conservation. Articulately presenting arguments from both sides\, the film challenges age-old beliefs around property that have shaped our relationship with the land for over a thousand years. And as the battle for nature continues the film asks the vital question\, who truly has the right to roam? \nWe are delighted to welcome Jess Duffy & Lewis Winks from Right to Roam for a discussion & Q&A following the film. \nBar opens from 7pm serving our fabulous cocktails\, fine wines and craft beers\, as well as savoury and sweet snacks. \nFilm starts promptly at 8pm with last orders 10 minutes before the film \nWATCH THE TRAILER HERE
URL:https://totnescinema.co.uk/wp02/event/our-land-12a-1h-31m-qa-with-jess-duffy-lewis-winks-of-right-to-roam/
LOCATION:Totnes Cinema\, 27a High Street\, Totnes\, TQ9 5NP\, United Kingdom
ATTACH;FMTTYPE=image/jpeg:https://totnescinema.co.uk/wp02/wp-content/uploads/2026/03/our-land.jpg
END:VEVENT
BEGIN:VEVENT
DTSTART;TZID=Europe/London:20260519T200000
DTEND;TZID=Europe/London:20260519T200000
DTSTAMP:20260423T081616
CREATED:20260408T162451Z
LAST-MODIFIED:20260408T163559Z
UID:10002161-1779220800-1779220800@totnescinema.co.uk
SUMMARY:OUR LAND (12A) 1h 31m + Q&A WITH GUEST SPEAKERS FROM RIGHT TO ROAM
DESCRIPTION:Dir: Orban Wallace \nGenre: Documentary \n\n\n\nThrough organised ‘mass trespass’ events\, the Right to Roam movement sets out to increase public access to nature\, but finds itself in conflict with England’s landowners. \nOur Land seamlessly juxtaposes the two sides of the debate around our access to nature\, giving voice to the different perspectives: those fighting for greater access to the countryside and the landowners who are seen as the stewards of the land. Blending history with an eye on the future\, Our Land charts the conflict\, exploring the complex issues of access\, custodianship and conservation. Articulately presenting arguments from both sides\, the film challenges age-old beliefs around property that have shaped our relationship with the land for over a thousand years. And as the battle for nature continues the film asks the vital question\, who truly has the right to roam? \nWe are delighted to welcome speakers from Right to Roam for a discussion & Q&A following the film. \nBar opens from 7pm serving our fabulous cocktails\, fine wines and craft beers\, as well as savoury and sweet snacks. \nFilm starts promptly at 8pm with last orders 10 minutes before the film \nWATCH THE TRAILER HERE
URL:https://totnescinema.co.uk/wp02/event/our-land-12a-1h-31m-qa-with-guest-speakers-from-right-to-roam/
LOCATION:Totnes Cinema\, 27a High Street\, Totnes\, TQ9 5NP\, United Kingdom
ATTACH;FMTTYPE=image/jpeg:https://totnescinema.co.uk/wp02/wp-content/uploads/2026/03/our-land.jpg
END:VEVENT
BEGIN:VEVENT
DTSTART;TZID=Europe/London:20260527T200000
DTEND;TZID=Europe/London:20260527T200000
DTSTAMP:20260423T081616
CREATED:20260408T163017Z
LAST-MODIFIED:20260408T163017Z
UID:10002162-1779912000-1779912000@totnescinema.co.uk
SUMMARY:OUR LAND (12A) 1h 31m
DESCRIPTION:Dir: Orban Wallace \nGenre: Documentary \n\n\n\nThrough organised ‘mass trespass’ events\, the Right to Roam movement sets out to increase public access to nature\, but finds itself in conflict with England’s landowners. \nOur Land seamlessly juxtaposes the two sides of the debate around our access to nature\, giving voice to the different perspectives: those fighting for greater access to the countryside and the landowners who are seen as the stewards of the land. Blending history with an eye on the future\, Our Land charts the conflict\, exploring the complex issues of access\, custodianship and conservation. Articulately presenting arguments from both sides\, the film challenges age-old beliefs around property that have shaped our relationship with the land for over a thousand years. And as the battle for nature continues the film asks the vital question\, who truly has the right to roam? \nBar opens from 7pm serving our fabulous cocktails\, fine wines and craft beers\, as well as savoury and sweet snacks. \nFilm starts promptly at 8pm with last orders 10 minutes before the film \nWATCH THE TRAILER HERE
URL:https://totnescinema.co.uk/wp02/event/our-land-12a-1h-31m/
LOCATION:Totnes Cinema\, 27a High Street\, Totnes\, TQ9 5NP\, United Kingdom
ATTACH;FMTTYPE=image/jpeg:https://totnescinema.co.uk/wp02/wp-content/uploads/2026/03/our-land.jpg
END:VEVENT
END:VCALENDAR