BEGIN:VCALENDAR
VERSION:2.0
PRODID:-//Totnes Cinema - ECPv6.15.20//NONSGML v1.0//EN
CALSCALE:GREGORIAN
METHOD:PUBLISH
X-WR-CALNAME:Totnes Cinema
X-ORIGINAL-URL:https://totnescinema.co.uk/wp02
X-WR-CALDESC:Events for Totnes Cinema
REFRESH-INTERVAL;VALUE=DURATION:PT1H
X-Robots-Tag:noindex
X-PUBLISHED-TTL:PT1H
BEGIN:VTIMEZONE
TZID:Europe/London
BEGIN:DAYLIGHT
TZOFFSETFROM:+0000
TZOFFSETTO:+0100
TZNAME:BST
DTSTART:20250330T010000
END:DAYLIGHT
BEGIN:STANDARD
TZOFFSETFROM:+0100
TZOFFSETTO:+0000
TZNAME:GMT
DTSTART:20251026T010000
END:STANDARD
BEGIN:DAYLIGHT
TZOFFSETFROM:+0000
TZOFFSETTO:+0100
TZNAME:BST
DTSTART:20260329T010000
END:DAYLIGHT
BEGIN:STANDARD
TZOFFSETFROM:+0100
TZOFFSETTO:+0000
TZNAME:GMT
DTSTART:20261025T010000
END:STANDARD
BEGIN:DAYLIGHT
TZOFFSETFROM:+0000
TZOFFSETTO:+0100
TZNAME:BST
DTSTART:20270328T010000
END:DAYLIGHT
BEGIN:STANDARD
TZOFFSETFROM:+0100
TZOFFSETTO:+0000
TZNAME:GMT
DTSTART:20271031T010000
END:STANDARD
END:VTIMEZONE
BEGIN:VEVENT
DTSTART;TZID=Europe/London:20260417T140000
DTEND;TZID=Europe/London:20260417T140000
DTSTAMP:20260419T142910
CREATED:20260319T121419Z
LAST-MODIFIED:20260417T170715Z
UID:10002131-1776434400-1776434400@totnescinema.co.uk
SUMMARY:ARCO (PG) 1h 29m MATINEE 2PM
DESCRIPTION:Dir: Ugo Bienvenu \nCast: Natalie Portman\, Will Ferrell\, America Ferrera \nGenre: Adventure\, Animation\, Science Fiction \nIn Ugo Bienvenu’s colourful time travelling adventure\, Arco\, a 10-year-old boy\, comes from the future and lands by mistake in 2075 where he meets Iris. Now stuck in a world where technology has gone too far and the environment is at stake; Arco will count on the strong friendships he makes to help him return home. \nWith Arco\, produced by Natalie Portman and winner of the Cristal Award at the Annecy International Animation Film Festival\, Bienvenu manages to paint a fun\, positive and moving film that will leave adults and children full of hope for humankind. \nCafe opens from 10am  serving delicious  home made cakes\, Crankhouse Coffee and Specialty Teas. Bar opens from 12pm serving cocktails\, fine wines\, craft beers and bar snacks. Last orders 10 minutes before the film starts. \nFilm starts promptly at 2pm. \nWATCH THE TRAILER HERE
URL:https://totnescinema.co.uk/wp02/event/arco-pg-1h-29m-matinee-2pm-5/
LOCATION:Totnes Cinema\, 27a High Street\, Totnes\, TQ9 5NP\, United Kingdom
ATTACH;FMTTYPE=image/jpeg:https://totnescinema.co.uk/wp02/wp-content/uploads/2026/03/Arco-186323-cr-Remembers-MountainA.jpg
END:VEVENT
BEGIN:VEVENT
DTSTART;TZID=Europe/London:20260417T200000
DTEND;TZID=Europe/London:20260417T200000
DTSTAMP:20260419T142910
CREATED:20260324T184411Z
LAST-MODIFIED:20260327T171807Z
UID:10002139-1776456000-1776456000@totnescinema.co.uk
SUMMARY:MIDWINTER BREAK (12A) 1h 30m
DESCRIPTION:Dir: Polly Findlay \nCast: Ciarán Hinds\, Lesley Manville \nGenre: Drama \nLongtime retired couple Stella and Gerry realize that their relationship has reached a crossroads while on holiday in Amsterdam. After so much time and so many memories\, long-held promises and deeply concealed wounds threaten to come to light and force them to confront their future. Based on the acclaimed novel by Bernard McLaverty\, Midwinter Break touchingly colours in how it might be possible for two people to know each other too well and also not well enough. A stirring meditation on faith\, commitment\, and the enduring power of love. \nBar opens from 7pm serving our fabulous cocktails\, fine wines and craft beers\, as well as savoury and sweet snacks. \nFilm starts promptly at 8pm with last orders 10 minutes before the film \nWATCH THE TRAILER HERE
URL:https://totnescinema.co.uk/wp02/event/mid-winter-break-12a-1h-30m/
LOCATION:Totnes Cinema\, 27a High Street\, Totnes\, TQ9 5NP\, United Kingdom
ATTACH;FMTTYPE=image/jpeg:https://totnescinema.co.uk/wp02/wp-content/uploads/2026/03/midwinter-break-credit-protagonist-pictures.jpg
END:VEVENT
END:VCALENDAR